{
 "currentVersion": 10.81,
 "serviceDescription": "2024 Summer Source: City of Ottawa / Ville d'Ottawa Partner Agencies: N/A Acquisition Date(s)/Dates Flown 6cm: April 20(Urban Core),28 May 8,9,18 Resolution: 6cm nadir 7cm oblique Sensor/Camera Name: Vexcel UCO Sensor: RGBI Oblique Leaf Status: leaf- on Contractor Acquisition: Airborne Sensing Corporation Contractor True Orthomosaic: City of Ottawa 6cm (in production) Collection Datum: NAD83 CSRS V6:2010 MTM Zone9N (EPSG:2941) CGVD2013a (EPSG:9245) 2024 Spring Source: Ontario Ministry of Natural Ressources / Ministère des ressources naturelles de l\u2019Ontario Partner Agencies: N/A Acquisition Date(s)/Dates Flown May-June Resolution: 12cm Sensor/Camera Name: Vexcel UCE Sensor: RGB Leaf Status: leaf-on Contractor Acquisition: First Base Solutions Contractor Orthomosaic: First Base Solutions (in production) Collection Datum: NAD83 CSRS V6:2010 MTM Zone9N (EPSG:2941) CGVD2013a (EPSG:9245) 2024 Spring Source: City of Ottawa / Ville d'Ottawa Partner Agencies: N/A Acquisition Date(s)/Dates Flown: April 28,29 May 5,6 Resolution: 6cm Sensor/Camera Name: Vexcel UCX Sensor: RGB Leaf Status: leaf-off/early on Contractor Acquisition: Airborne Sensing Corporation Contractor True Orthomosaic: City of Ottawa 6cm (in production) Collection Datum: NAD83 CSRS V6:2010 MTM Zone9N (EPSG:2941) CGVD2013a (EPSG:9245)",
 "name": "Imagery_2024",
 "description": "2024 Summer Source: City of Ottawa / Ville d'Ottawa Partner Agencies: N/A Acquisition Date(s)/Dates Flown 6cm: April 20(Urban Core),28 May 8,9,18 Resolution: 6cm nadir 7cm oblique Sensor/Camera Name: Vexcel UCO Sensor: RGBI Oblique Leaf Status: leaf- on Contractor Acquisition: Airborne Sensing Corporation Contractor True Orthomosaic: City of Ottawa 6cm (in production) Collection Datum: NAD83 CSRS V6:2010 MTM Zone9N (EPSG:2941) CGVD2013a (EPSG:9245) 2024 Spring Source: Ontario Ministry of Natural Ressources / Ministère des ressources naturelles de l\u2019Ontario Partner Agencies: N/A Acquisition Date(s)/Dates Flown May-June Resolution: 12cm Sensor/Camera Name: Vexcel UCE Sensor: RGB Leaf Status: leaf-on Contractor Acquisition: First Base Solutions Contractor Orthomosaic: First Base Solutions (in production) Collection Datum: NAD83 CSRS V6:2010 MTM Zone9N (EPSG:2941) CGVD2013a (EPSG:9245) 2024 Spring Source: City of Ottawa / Ville d'Ottawa Partner Agencies: N/A Acquisition Date(s)/Dates Flown: April 28,29 May 5,6 Resolution: 6cm Sensor/Camera Name: Vexcel UCX Sensor: RGB Leaf Status: leaf-off/early on Contractor Acquisition: Airborne Sensing Corporation Contractor True Orthomosaic: City of Ottawa 6cm (in production) Collection Datum: NAD83 CSRS V6:2010 MTM Zone9N (EPSG:2941) CGVD2013a (EPSG:9245)",
 "extent": {
  "xmin": -8456091.249997374,
  "ymin": 5646947.649998207,
  "xmax": -8392812.449997393,
  "ymax": 5704423.099998188,
  "spatialReference": {
   "wkid": 102100,
   "latestWkid": 3857
  }
 },
 "initialExtent": {
  "xmin": -8456091.249997374,
  "ymin": 5646947.649998207,
  "xmax": -8392812.449997393,
  "ymax": 5704423.099998188,
  "spatialReference": {
   "wkid": 102100,
   "latestWkid": 3857
  }
 },
 "fullExtent": {
  "xmin": -8456091.249997374,
  "ymin": 5646947.649998207,
  "xmax": -8392812.449997393,
  "ymax": 5704423.099998188,
  "spatialReference": {
   "wkid": 102100,
   "latestWkid": 3857
  }
 },
 "pixelSizeX": 0.0499999999999844,
 "pixelSizeY": 0.04999999999998396,
 "bandCount": 3,
 "pixelType": "U8",
 "minPixelSize": 0,
 "maxPixelSize": 0,
 "copyrightText": "",
 "serviceDataType": "esriImageServiceDataTypeRGB",
 "minValues": [],
 "maxValues": [],
 "meanValues": [],
 "stdvValues": [],
 "objectIdField": "OBJECTID",
 "fields": [
  {
   "name": "OBJECTID",
   "type": "esriFieldTypeOID",
   "alias": "OBJECTID",
   "domain": null
  },
  {
   "name": "Shape",
   "type": "esriFieldTypeGeometry",
   "alias": "Shape",
   "domain": null
  },
  {
   "name": "Name",
   "type": "esriFieldTypeString",
   "alias": "Name",
   "domain": null,
   "length": 200
  },
  {
   "name": "MinPS",
   "type": "esriFieldTypeDouble",
   "alias": "MinPS",
   "domain": null
  },
  {
   "name": "MaxPS",
   "type": "esriFieldTypeDouble",
   "alias": "MaxPS",
   "domain": null
  },
  {
   "name": "LowPS",
   "type": "esriFieldTypeDouble",
   "alias": "LowPS",
   "domain": null
  },
  {
   "name": "HighPS",
   "type": "esriFieldTypeDouble",
   "alias": "HighPS",
   "domain": null
  },
  {
   "name": "Category",
   "type": "esriFieldTypeInteger",
   "alias": "Category",
   "domain": {
    "type": "codedValue",
    "name": "MosaicCatalogItemCategoryDomain",
    "description": "Catalog item categories.",
    "codedValues": [
     {
      "name": "Unknown",
      "code": 0
     },
     {
      "name": "Primary",
      "code": 1
     },
     {
      "name": "Overview",
      "code": 2
     },
     {
      "name": "Unprocessed Overview",
      "code": 3
     },
     {
      "name": "Partial Overview",
      "code": 4
     },
     {
      "name": "Inactive",
      "code": 5
     },
     {
      "name": "Uploaded",
      "code": 253
     },
     {
      "name": "Incomplete",
      "code": 254
     },
     {
      "name": "Custom",
      "code": 255
     }
    ],
    "mergePolicy": "esriMPTDefaultValue",
    "splitPolicy": "esriSPTDefaultValue"
   }
  },
  {
   "name": "Tag",
   "type": "esriFieldTypeString",
   "alias": "Tag",
   "domain": null,
   "length": 100
  },
  {
   "name": "GroupName",
   "type": "esriFieldTypeString",
   "alias": "GroupName",
   "domain": null,
   "length": 100
  },
  {
   "name": "ProductName",
   "type": "esriFieldTypeString",
   "alias": "ProductName",
   "domain": null,
   "length": 100
  },
  {
   "name": "CenterX",
   "type": "esriFieldTypeDouble",
   "alias": "CenterX",
   "domain": null
  },
  {
   "name": "CenterY",
   "type": "esriFieldTypeDouble",
   "alias": "CenterY",
   "domain": null
  },
  {
   "name": "ZOrder",
   "type": "esriFieldTypeInteger",
   "alias": "ZOrder",
   "domain": null
  },
  {
   "name": "Shape_Length",
   "type": "esriFieldTypeDouble",
   "alias": "Shape_Length",
   "domain": null
  },
  {
   "name": "Shape_Area",
   "type": "esriFieldTypeDouble",
   "alias": "Shape_Area",
   "domain": null
  }
 ],
 "capabilities": "Image",
 "defaultMosaicMethod": "Northwest",
 "allowedMosaicMethods": "NorthWest,Center,LockRaster,ByAttribute,Nadir,Viewpoint,Seamline,None",
 "sortField": "",
 "sortValue": null,
 "sortAscending": true,
 "mosaicOperator": "First",
 "maxDownloadSizeLimit": 2048,
 "defaultCompressionQuality": 75,
 "defaultResamplingMethod": "Bilinear",
 "maxImageHeight": 4100,
 "maxImageWidth": 15000,
 "maxRecordCount": 1000,
 "maxDownloadImageCount": 20,
 "maxMosaicImageCount": 20,
 "allowRasterFunction": false,
 "rasterFunctionInfos": [
  {
   "name": "None",
   "description": "A No-Op Function.",
   "help": ""
  }
 ],
 "rasterTypeInfos": [
  {
   "name": "Raster Dataset",
   "description": "Supports all ArcGIS Raster Datasets",
   "help": ""
  }
 ],
 "mensurationCapabilities": "Basic",
 "hasHistograms": false,
 "hasColormap": false,
 "hasRasterAttributeTable": false,
 "minScale": 0,
 "maxScale": 0,
 "exportTilesAllowed": false,
 "hasMultidimensions": false,
 "supportsStatistics": true,
 "supportsAdvancedQueries": true,
 "editFieldsInfo": null,
 "ownershipBasedAccessControlForRasters": null,
 "allowComputeTiePoints": false,
 "useStandardizedQueries": true,
 "advancedQueryCapabilities": {
  "useStandardizedQueries": true,
  "supportsStatistics": true,
  "supportsOrderBy": true,
  "supportsDistinct": true,
  "supportsPagination": true
 },
 "spatialReference": {
  "wkid": 102100,
  "latestWkid": 3857
 }
}
