View In:
ArcGIS JavaScript
ArcGIS Online Map Viewer
ArcGIS Earth
ArcMap
View Footprint In:
ArcGIS Online Map Viewer
Service Description: 1928 Spring Source: City of Ottawa / Ville d'Ottawa Partner Agencies: NAPL Acquisition Date(s)/Dates Flown: May Resolution: film 1:15,000 Sensor/Camera Name: Fairchild K3-18 Leaf Status: leaf-off
Name: Imagery_1928
Description: 1928 Spring Source: City of Ottawa / Ville d'Ottawa Partner Agencies: NAPL Acquisition Date(s)/Dates Flown: May Resolution: film 1:15,000 Sensor/Camera Name: Fairchild K3-18 Leaf Status: leaf-off
Single Fused Map Cache: false
Extent:
XMin: -8433909.999994835
YMin: 5679719.199996486
XMax: -8412159.599994848
YMax: 5696701.999996476
Spatial Reference: 102100
(3857)
Initial Extent:
XMin: -8433909.999994835
YMin: 5679719.199996486
XMax: -8412159.599994848
YMax: 5696701.999996476
Spatial Reference: 102100
(3857)
Full Extent:
XMin: -8433909.999994835
YMin: 5679719.199996486
XMax: -8412159.599994848
YMax: 5696701.999996476
Spatial Reference: 102100
(3857)
Pixel Size X: 0.39999999999976704
Pixel Size Y: 0.39999999999975433
Band Count: 3
Pixel Type: U8
RasterFunction Infos: {"rasterFunctionInfos": [{
"name": "None",
"description": "A No-Op Function.",
"help": ""
}]}
Mensuration Capabilities: None
Has Histograms: true
Has Colormap: false
Has Multi Dimensions : false
Rendering Rule:
Min Scale: 0
Max Scale: 0
Copyright Text:
Service Data Type: esriImageServiceDataTypeRGB
Min Values: 14, 14, 14
Max Values: 255, 255, 255
Mean Values: 112.07425838234184, 112.07425838234184, 112.07425838234184
Standard Deviation Values: 40.98949171558242, 40.98949171558242, 40.98949171558242
Object ID Field: OBJECTID
Fields:
-
OBJECTID
(
type: esriFieldTypeOID, alias: OBJECTID
)
-
Shape
(
type: esriFieldTypeGeometry, alias: Shape
)
-
Name
(
type: esriFieldTypeString, alias: Name, length: 200
)
-
MinPS
(
type: esriFieldTypeDouble, alias: MinPS
)
-
MaxPS
(
type: esriFieldTypeDouble, alias: MaxPS
)
-
LowPS
(
type: esriFieldTypeDouble, alias: LowPS
)
-
HighPS
(
type: esriFieldTypeDouble, alias: HighPS
)
-
Category
(
type: esriFieldTypeInteger, alias: Category
, Coded Values:
[0: Unknown]
, [1: Primary]
, [2: Overview]
, ...6 more...
)
-
Tag
(
type: esriFieldTypeString, alias: Tag, length: 100
)
-
GroupName
(
type: esriFieldTypeString, alias: GroupName, length: 100
)
-
ProductName
(
type: esriFieldTypeString, alias: ProductName, length: 100
)
-
CenterX
(
type: esriFieldTypeDouble, alias: CenterX
)
-
CenterY
(
type: esriFieldTypeDouble, alias: CenterY
)
-
ZOrder
(
type: esriFieldTypeInteger, alias: ZOrder
)
-
Shape_Length
(
type: esriFieldTypeDouble, alias: Shape_Length
)
-
Shape_Area
(
type: esriFieldTypeDouble, alias: Shape_Area
)
Default Mosaic Method: Northwest
Allowed Mosaic Methods: NorthWest,Center,LockRaster,ByAttribute,Nadir,Viewpoint,Seamline,None
SortField:
SortValue: null
Mosaic Operator: First
Default Compression Quality: 50
Default Resampling Method: Nearest
Max Record Count: 1000
Max Image Height: 4100
Max Image Width: 15000
Max Download Image Count: 20
Max Mosaic Image Count: 200
Allow Raster Function: false
Allow Copy: null
Allow Analysis: null
Allow Compute TiePoints: false
Supports Statistics: true
Supports Advanced Queries: true
Use StandardizedQueries: true
Raster Type Infos:
Name: Raster Dataset
Description: Supports all ArcGIS Raster Datasets
Help:
Has Raster Attribute Table: false
Edit Fields Info: null
Ownership Based AccessControl For Rasters: null
Child Resources:
Info
Histograms
Key Properties
Legend
Raster Function Infos
Supported Operations:
Export Image
Identify
Compute Histograms
Compute Statistics Histograms
Get Samples
Compute Class Statistics
Query Boundary
Compute Pixel Location
Validate
Project