View In:
ArcGIS JavaScript
ArcGIS Online Map Viewer
ArcGIS Earth
ArcMap
View Footprint In:
ArcGIS Online Map Viewer
Service Description: 1999 Summer Source: City of Ottawa / Ville d'Ottawa Partner Agencies: NAPL Acquisition Date(s)/Dates Flown: June Resolution: film 1:15,000 Sensor/Camera Name: Zeiss 144119 Leaf Status: leaf-on
Name: Imagery_1999
Description: 1999 Summer Source: City of Ottawa / Ville d'Ottawa Partner Agencies: NAPL Acquisition Date(s)/Dates Flown: June Resolution: film 1:15,000 Sensor/Camera Name: Zeiss 144119 Leaf Status: leaf-on
Single Fused Map Cache: false
Extent:
XMin: -8500137.820799515
YMin: 5614136.291199656
XMax: -8374293.9839995215
YMax: 5723451.286399649
Spatial Reference: 102100
(3857)
Initial Extent:
XMin: -8500137.820799515
YMin: 5614136.291199656
XMax: -8374293.9839995215
YMax: 5723451.286399649
Spatial Reference: 102100
(3857)
Full Extent:
XMin: -8500137.820799515
YMin: 5614136.291199656
XMax: -8374293.9839995215
YMax: 5723451.286399649
Spatial Reference: 102100
(3857)
Pixel Size X: 0.0031999999999998267
Pixel Size Y: 0.0031999999999998024
Band Count: 3
Pixel Type: U8
RasterFunction Infos: {"rasterFunctionInfos": [{
"name": "None",
"description": "A No-Op Function.",
"help": ""
}]}
Mensuration Capabilities: None
Has Histograms: true
Has Colormap: false
Has Multi Dimensions : false
Rendering Rule:
Min Scale: 0
Max Scale: 0
Copyright Text:
Service Data Type: esriImageServiceDataTypeRGB
Min Values: 0, 0, 13
Max Values: 255, 255, 255
Mean Values: 99.13448629091997, 138.39260131060405, 120.24950416285425
Standard Deviation Values: 38.954543735479135, 29.884993391965132, 24.707613919541735
Object ID Field: OBJECTID
Fields:
-
OBJECTID
(
type: esriFieldTypeOID, alias: OBJECTID
)
-
Shape
(
type: esriFieldTypeGeometry, alias: Shape
)
-
Name
(
type: esriFieldTypeString, alias: Name, length: 200
)
-
MinPS
(
type: esriFieldTypeDouble, alias: MinPS
)
-
MaxPS
(
type: esriFieldTypeDouble, alias: MaxPS
)
-
LowPS
(
type: esriFieldTypeDouble, alias: LowPS
)
-
HighPS
(
type: esriFieldTypeDouble, alias: HighPS
)
-
Category
(
type: esriFieldTypeInteger, alias: Category
, Coded Values:
[0: Unknown]
, [1: Primary]
, [2: Overview]
, ...6 more...
)
-
Tag
(
type: esriFieldTypeString, alias: Tag, length: 100
)
-
GroupName
(
type: esriFieldTypeString, alias: GroupName, length: 100
)
-
ProductName
(
type: esriFieldTypeString, alias: ProductName, length: 100
)
-
CenterX
(
type: esriFieldTypeDouble, alias: CenterX
)
-
CenterY
(
type: esriFieldTypeDouble, alias: CenterY
)
-
ZOrder
(
type: esriFieldTypeInteger, alias: ZOrder
)
-
Shape_Length
(
type: esriFieldTypeDouble, alias: Shape_Length
)
-
Shape_Area
(
type: esriFieldTypeDouble, alias: Shape_Area
)
Default Mosaic Method: Northwest
Allowed Mosaic Methods: NorthWest,Center,LockRaster,ByAttribute,Nadir,Viewpoint,Seamline,None
SortField:
SortValue: null
Mosaic Operator: First
Default Compression Quality: 50
Default Resampling Method: Nearest
Max Record Count: 1000
Max Image Height: 4100
Max Image Width: 15000
Max Download Image Count: 20
Max Mosaic Image Count: 200
Allow Raster Function: false
Allow Copy: null
Allow Analysis: null
Allow Compute TiePoints: false
Supports Statistics: true
Supports Advanced Queries: true
Use StandardizedQueries: true
Raster Type Infos:
Name: Raster Dataset
Description: Supports all ArcGIS Raster Datasets
Help:
Has Raster Attribute Table: false
Edit Fields Info: null
Ownership Based AccessControl For Rasters: null
Child Resources:
Info
Histograms
Key Properties
Legend
Raster Function Infos
Supported Operations:
Export Image
Identify
Compute Histograms
Compute Statistics Histograms
Get Samples
Compute Class Statistics
Query Boundary
Compute Pixel Location
Validate
Project