View In:
ArcGIS JavaScript
ArcGIS Online Map Viewer
ArcGIS Earth
ArcMap
View Footprint In:
ArcGIS Online Map Viewer
Service Description: 2005 Summer Source: City of Ottawa / Ville d'Ottawa Partner Agencies: NAPL Acquisition Date(s)/Dates Flown: June, July Resolution: film 1:15,000 Sensor/Camera Name: Zeiss 144119 Leaf Status: leaf on
Name: Imagery_2005
Description: 2005 Summer Source: City of Ottawa / Ville d'Ottawa Partner Agencies: NAPL Acquisition Date(s)/Dates Flown: June, July Resolution: film 1:15,000 Sensor/Camera Name: Zeiss 144119 Leaf Status: leaf on
Single Fused Map Cache: false
Extent:
XMin: -8505076.399984159
YMin: 5614058.199989514
XMax: -8369393.799984411
YMax: 5717593.399989321
Spatial Reference: 102100
(3857)
Initial Extent:
XMin: -8505076.399984159
YMin: 5614058.199989514
XMax: -8369393.799984411
YMax: 5717593.399989321
Spatial Reference: 102100
(3857)
Full Extent:
XMin: -8505076.399984159
YMin: 5614058.199989514
XMax: -8369393.799984411
YMax: 5717593.399989321
Spatial Reference: 102100
(3857)
Pixel Size X: 0.19999999999962742
Pixel Size Y: 0.19999999999962617
Band Count: 3
Pixel Type: U8
RasterFunction Infos: {"rasterFunctionInfos": [{
"name": "None",
"description": "A No-Op Function.",
"help": ""
}]}
Mensuration Capabilities: None
Has Histograms: true
Has Colormap: false
Has Multi Dimensions : false
Rendering Rule:
Min Scale: 0
Max Scale: 0
Copyright Text:
Service Data Type: esriImageServiceDataTypeRGB
Min Values: 6, 10, 15
Max Values: 238, 245, 241
Mean Values: 108.197194265267, 117.57556754945283, 108.56255011309176
Standard Deviation Values: 22.57618562986345, 18.961494684468754, 19.85517043004385
Object ID Field: OBJECTID
Fields:
-
OBJECTID
(
type: esriFieldTypeOID, alias: OBJECTID
)
-
Shape
(
type: esriFieldTypeGeometry, alias: Shape
)
-
Name
(
type: esriFieldTypeString, alias: Name, length: 200
)
-
MinPS
(
type: esriFieldTypeDouble, alias: MinPS
)
-
MaxPS
(
type: esriFieldTypeDouble, alias: MaxPS
)
-
LowPS
(
type: esriFieldTypeDouble, alias: LowPS
)
-
HighPS
(
type: esriFieldTypeDouble, alias: HighPS
)
-
Category
(
type: esriFieldTypeInteger, alias: Category
, Coded Values:
[0: Unknown]
, [1: Primary]
, [2: Overview]
, ...6 more...
)
-
Tag
(
type: esriFieldTypeString, alias: Tag, length: 100
)
-
GroupName
(
type: esriFieldTypeString, alias: GroupName, length: 100
)
-
ProductName
(
type: esriFieldTypeString, alias: ProductName, length: 100
)
-
CenterX
(
type: esriFieldTypeDouble, alias: CenterX
)
-
CenterY
(
type: esriFieldTypeDouble, alias: CenterY
)
-
ZOrder
(
type: esriFieldTypeInteger, alias: ZOrder
)
-
Shape_Length
(
type: esriFieldTypeDouble, alias: Shape_Length
)
-
Shape_Area
(
type: esriFieldTypeDouble, alias: Shape_Area
)
Default Mosaic Method: Northwest
Allowed Mosaic Methods: NorthWest,Center,LockRaster,ByAttribute,Nadir,Viewpoint,Seamline,None
SortField:
SortValue: null
Mosaic Operator: First
Default Compression Quality: 50
Default Resampling Method: Nearest
Max Record Count: 1000
Max Image Height: 4100
Max Image Width: 15000
Max Download Image Count: 20
Max Mosaic Image Count: 200
Allow Raster Function: false
Allow Copy: null
Allow Analysis: null
Allow Compute TiePoints: false
Supports Statistics: true
Supports Advanced Queries: true
Use StandardizedQueries: true
Raster Type Infos:
Name: Raster Dataset
Description: Supports all ArcGIS Raster Datasets
Help:
Has Raster Attribute Table: false
Edit Fields Info: null
Ownership Based AccessControl For Rasters: null
Child Resources:
Info
Histograms
Key Properties
Legend
Raster Function Infos
Supported Operations:
Export Image
Identify
Compute Histograms
Compute Statistics Histograms
Get Samples
Compute Class Statistics
Query Boundary
Compute Pixel Location
Validate
Project