View In:
ArcGIS JavaScript
ArcGIS Online Map Viewer
ArcGIS Earth
ArcMap
View Footprint In:
ArcGIS Online Map Viewer
Service Description: 2015 Fall Source: City of Ottawa / Ville d'Ottawa Partner Agencies: N/A Acquisition Date(s)/Dates Flown: Nov. 3, 16, 17, Dec. 26 Resolution: 6cm Sensor/Camera Name: Vexcel UCX Sensor: RGB Leaf Status: leaf-off Collection Datum: NAD83 Original MTM Zone9N (EPSG:32189) CGVD1928 (EPSG:5713)
Name: Imagery_2015
Description: 2015 Fall Source: City of Ottawa / Ville d'Ottawa Partner Agencies: N/A Acquisition Date(s)/Dates Flown: Nov. 3, 16, 17, Dec. 26 Resolution: 6cm Sensor/Camera Name: Vexcel UCX Sensor: RGB Leaf Status: leaf-off Collection Datum: NAD83 Original MTM Zone9N (EPSG:32189) CGVD1928 (EPSG:5713)
Single Fused Map Cache: false
Extent:
XMin: -8464642.859996215
YMin: 5653147.619997416
XMax: -8378808.179996253
YMax: 5708196.71999739
Spatial Reference: 102100
(3857)
Initial Extent:
XMin: -8464642.859996215
YMin: 5653147.619997416
XMax: -8378808.179996253
YMax: 5708196.71999739
Spatial Reference: 102100
(3857)
Full Extent:
XMin: -8464642.859996215
YMin: 5653147.619997416
XMax: -8378808.179996253
YMax: 5708196.71999739
Spatial Reference: 102100
(3857)
Pixel Size X: 0.0599999999999731
Pixel Size Y: 0.05999999999997219
Band Count: 3
Pixel Type: U8
RasterFunction Infos: {"rasterFunctionInfos": [{
"name": "None",
"description": "A No-Op Function.",
"help": ""
}]}
Mensuration Capabilities: None
Has Histograms: true
Has Colormap: false
Has Multi Dimensions : false
Rendering Rule:
Min Scale: 0
Max Scale: 0
Copyright Text:
Service Data Type: esriImageServiceDataTypeRGB
Min Values: 16, 21, 9
Max Values: 251, 255, 255
Mean Values: 127.82189565233541, 118.3364102992507, 103.34013236058584
Standard Deviation Values: 20.953591022639063, 17.507023285237366, 15.833475354650925
Object ID Field: OBJECTID
Fields:
-
OBJECTID
(
type: esriFieldTypeOID, alias: OBJECTID
)
-
Shape
(
type: esriFieldTypeGeometry, alias: Shape
)
-
Name
(
type: esriFieldTypeString, alias: Name, length: 200
)
-
MinPS
(
type: esriFieldTypeDouble, alias: MinPS
)
-
MaxPS
(
type: esriFieldTypeDouble, alias: MaxPS
)
-
LowPS
(
type: esriFieldTypeDouble, alias: LowPS
)
-
HighPS
(
type: esriFieldTypeDouble, alias: HighPS
)
-
Category
(
type: esriFieldTypeInteger, alias: Category
, Coded Values:
[0: Unknown]
, [1: Primary]
, [2: Overview]
, ...6 more...
)
-
Tag
(
type: esriFieldTypeString, alias: Tag, length: 100
)
-
GroupName
(
type: esriFieldTypeString, alias: GroupName, length: 100
)
-
ProductName
(
type: esriFieldTypeString, alias: ProductName, length: 100
)
-
CenterX
(
type: esriFieldTypeDouble, alias: CenterX
)
-
CenterY
(
type: esriFieldTypeDouble, alias: CenterY
)
-
ZOrder
(
type: esriFieldTypeInteger, alias: ZOrder
)
-
Shape_Length
(
type: esriFieldTypeDouble, alias: Shape_Length
)
-
Shape_Area
(
type: esriFieldTypeDouble, alias: Shape_Area
)
Default Mosaic Method: Northwest
Allowed Mosaic Methods: NorthWest,Center,LockRaster,ByAttribute,Nadir,Viewpoint,Seamline,None
SortField:
SortValue: null
Mosaic Operator: First
Default Compression Quality: 50
Default Resampling Method: Nearest
Max Record Count: 1000
Max Image Height: 4100
Max Image Width: 15000
Max Download Image Count: 20
Max Mosaic Image Count: 200
Allow Raster Function: false
Allow Copy: null
Allow Analysis: null
Allow Compute TiePoints: false
Supports Statistics: true
Supports Advanced Queries: true
Use StandardizedQueries: true
Raster Type Infos:
Name: Raster Dataset
Description: Supports all ArcGIS Raster Datasets
Help:
Has Raster Attribute Table: false
Edit Fields Info: null
Ownership Based AccessControl For Rasters: null
Child Resources:
Info
Histograms
Key Properties
Legend
Raster Function Infos
Supported Operations:
Export Image
Identify
Compute Histograms
Compute Statistics Histograms
Get Samples
Compute Class Statistics
Query Boundary
Compute Pixel Location
Validate
Project