View In:
ArcGIS JavaScript
ArcGIS Online Map Viewer
ArcGIS Earth
ArcMap
View Footprint In:
ArcGIS Online Map Viewer
Service Description: 2021 Spring Source: City of Ottawa / Ville d'Ottawa Partner Agencies: N/A Acquisition Date(s)/Dates Flown: April 6, 8 Resolution: 6cm Sensor/Camera Name: Vexcel UCE Sensor: RGB Leaf Status: leaf-off Collection Datum: NAD83 CSRS V6:2010 MTM Zone9N (EPSG:2941) CGVD2013a (EPSG:9245
Name: Imagery_2021
Description: 2021 Spring Source: City of Ottawa / Ville d'Ottawa Partner Agencies: N/A Acquisition Date(s)/Dates Flown: April 6, 8 Resolution: 6cm Sensor/Camera Name: Vexcel UCE Sensor: RGB Leaf Status: leaf-off Collection Datum: NAD83 CSRS V6:2010 MTM Zone9N (EPSG:2941) CGVD2013a (EPSG:9245
Single Fused Map Cache: false
Extent:
XMin: -8487360.378318861
YMin: 5639051.124225686
XMax: -8384480.365092881
YMax: 5707671.618701555
Spatial Reference: 102100
(3857)
Initial Extent:
XMin: -8487360.378318861
YMin: 5639051.124225686
XMax: -8384480.365092881
YMax: 5707671.618701555
Spatial Reference: 102100
(3857)
Full Extent:
XMin: -8487360.378318861
YMin: 5639051.124225686
XMax: -8384480.365092881
YMax: 5707671.618701555
Spatial Reference: 102100
(3857)
Pixel Size X: 0.059998211499488606
Pixel Size Y: 0.05999821149948853
Band Count: 3
Pixel Type: U8
RasterFunction Infos: {"rasterFunctionInfos": [{
"name": "None",
"description": "A No-Op Function.",
"help": ""
}]}
Mensuration Capabilities: None
Has Histograms: true
Has Colormap: false
Has Multi Dimensions : false
Rendering Rule:
Min Scale: 0
Max Scale: 0
Copyright Text:
Service Data Type: esriImageServiceDataTypeRGB
Min Values: 0, 0, 0
Max Values: 255, 255, 255
Mean Values: 95.58141315698005, 83.64418278553968, 75.99852419073972
Standard Deviation Values: 36.36322382188788, 32.10842784271119, 28.60370945305727
Object ID Field: OBJECTID
Fields:
-
OBJECTID
(
type: esriFieldTypeOID, alias: OBJECTID
)
-
Shape
(
type: esriFieldTypeGeometry, alias: Shape
)
-
Name
(
type: esriFieldTypeString, alias: Name, length: 200
)
-
MinPS
(
type: esriFieldTypeDouble, alias: MinPS
)
-
MaxPS
(
type: esriFieldTypeDouble, alias: MaxPS
)
-
LowPS
(
type: esriFieldTypeDouble, alias: LowPS
)
-
HighPS
(
type: esriFieldTypeDouble, alias: HighPS
)
-
Category
(
type: esriFieldTypeInteger, alias: Category
, Coded Values:
[0: Unknown]
, [1: Primary]
, [2: Overview]
, ...6 more...
)
-
Tag
(
type: esriFieldTypeString, alias: Tag, length: 100
)
-
GroupName
(
type: esriFieldTypeString, alias: GroupName, length: 100
)
-
ProductName
(
type: esriFieldTypeString, alias: ProductName, length: 100
)
-
CenterX
(
type: esriFieldTypeDouble, alias: CenterX
)
-
CenterY
(
type: esriFieldTypeDouble, alias: CenterY
)
-
ZOrder
(
type: esriFieldTypeInteger, alias: ZOrder
)
-
Shape_Length
(
type: esriFieldTypeDouble, alias: Shape_Length
)
-
Shape_Area
(
type: esriFieldTypeDouble, alias: Shape_Area
)
Default Mosaic Method: Northwest
Allowed Mosaic Methods: NorthWest,Center,LockRaster,ByAttribute,Nadir,Viewpoint,Seamline,None
SortField:
SortValue: null
Mosaic Operator: First
Default Compression Quality: 50
Default Resampling Method: Nearest
Max Record Count: 1000
Max Image Height: 4100
Max Image Width: 15000
Max Download Image Count: 20
Max Mosaic Image Count: 200
Allow Raster Function: false
Allow Copy: null
Allow Analysis: null
Allow Compute TiePoints: false
Supports Statistics: true
Supports Advanced Queries: true
Use StandardizedQueries: true
Raster Type Infos:
Name: Raster Dataset
Description: Supports all ArcGIS Raster Datasets
Help:
Has Raster Attribute Table: false
Edit Fields Info: null
Ownership Based AccessControl For Rasters: null
Child Resources:
Info
Histograms
Key Properties
Legend
Raster Function Infos
Supported Operations:
Export Image
Identify
Compute Histograms
Compute Statistics Histograms
Get Samples
Compute Class Statistics
Query Boundary
Compute Pixel Location
Validate
Project