View In:
ArcGIS JavaScript
ArcGIS Online Map Viewer
ArcGIS Earth
ArcMap
View Footprint In:
ArcGIS Online Map Viewer
Service Description: 2024 Summer Source: City of Ottawa / Ville d'Ottawa Partner Agencies: N/A Acquisition Date(s)/Dates Flown 6cm: April 20(Urban Core),28 May 8,9,18 Resolution: 6cm nadir 7cm oblique Sensor/Camera Name: Vexcel UCO Sensor: RGBI Oblique Leaf Status: leaf- on Contractor Acquisition: Airborne Sensing Corporation Contractor True Orthomosaic: City of Ottawa 6cm (in production) Collection Datum: NAD83 CSRS V6:2010 MTM Zone9N (EPSG:2941) CGVD2013a (EPSG:9245) 2024 Spring Source: Ontario Ministry of Natural Ressources / Ministère des ressources naturelles de l’Ontario Partner Agencies: N/A Acquisition Date(s)/Dates Flown May-June Resolution: 12cm Sensor/Camera Name: Vexcel UCE Sensor: RGB Leaf Status: leaf-on Contractor Acquisition: First Base Solutions Contractor Orthomosaic: First Base Solutions (in production) Collection Datum: NAD83 CSRS V6:2010 MTM Zone9N (EPSG:2941) CGVD2013a (EPSG:9245) 2024 Spring Source: City of Ottawa / Ville d'Ottawa Partner Agencies: N/A Acquisition Date(s)/Dates Flown: April 28,29 May 5,6 Resolution: 6cm Sensor/Camera Name: Vexcel UCX Sensor: RGB Leaf Status: leaf-off/early on Contractor Acquisition: Airborne Sensing Corporation Contractor True Orthomosaic: City of Ottawa 6cm (in production) Collection Datum: NAD83 CSRS V6:2010 MTM Zone9N (EPSG:2941) CGVD2013a (EPSG:9245)
Name: Imagery_2024
Description: 2024 Summer Source: City of Ottawa / Ville d'Ottawa Partner Agencies: N/A Acquisition Date(s)/Dates Flown 6cm: April 20(Urban Core),28 May 8,9,18 Resolution: 6cm nadir 7cm oblique Sensor/Camera Name: Vexcel UCO Sensor: RGBI Oblique Leaf Status: leaf- on Contractor Acquisition: Airborne Sensing Corporation Contractor True Orthomosaic: City of Ottawa 6cm (in production) Collection Datum: NAD83 CSRS V6:2010 MTM Zone9N (EPSG:2941) CGVD2013a (EPSG:9245) 2024 Spring Source: Ontario Ministry of Natural Ressources / Ministère des ressources naturelles de l’Ontario Partner Agencies: N/A Acquisition Date(s)/Dates Flown May-June Resolution: 12cm Sensor/Camera Name: Vexcel UCE Sensor: RGB Leaf Status: leaf-on Contractor Acquisition: First Base Solutions Contractor Orthomosaic: First Base Solutions (in production) Collection Datum: NAD83 CSRS V6:2010 MTM Zone9N (EPSG:2941) CGVD2013a (EPSG:9245) 2024 Spring Source: City of Ottawa / Ville d'Ottawa Partner Agencies: N/A Acquisition Date(s)/Dates Flown: April 28,29 May 5,6 Resolution: 6cm Sensor/Camera Name: Vexcel UCX Sensor: RGB Leaf Status: leaf-off/early on Contractor Acquisition: Airborne Sensing Corporation Contractor True Orthomosaic: City of Ottawa 6cm (in production) Collection Datum: NAD83 CSRS V6:2010 MTM Zone9N (EPSG:2941) CGVD2013a (EPSG:9245)
Single Fused Map Cache: false
Extent:
XMin: -8456091.249997374
YMin: 5646947.649998207
XMax: -8392812.449997393
YMax: 5704423.099998188
Spatial Reference: 102100
(3857)
Initial Extent:
XMin: -8456091.249997374
YMin: 5646947.649998207
XMax: -8392812.449997393
YMax: 5704423.099998188
Spatial Reference: 102100
(3857)
Full Extent:
XMin: -8456091.249997374
YMin: 5646947.649998207
XMax: -8392812.449997393
YMax: 5704423.099998188
Spatial Reference: 102100
(3857)
Pixel Size X: 0.0499999999999844
Pixel Size Y: 0.04999999999998396
Band Count: 3
Pixel Type: U8
RasterFunction Infos: {"rasterFunctionInfos": [{
"name": "None",
"description": "A No-Op Function.",
"help": ""
}]}
Mensuration Capabilities: Basic
Has Histograms: false
Has Colormap: false
Has Multi Dimensions : false
Rendering Rule:
Min Scale: 0
Max Scale: 0
Copyright Text:
Service Data Type: esriImageServiceDataTypeRGB
Min Values: N/A
Max Values: N/A
Mean Values: N/A
Standard Deviation Values: N/A
Object ID Field: OBJECTID
Fields:
-
OBJECTID
(
type: esriFieldTypeOID, alias: OBJECTID
)
-
Shape
(
type: esriFieldTypeGeometry, alias: Shape
)
-
Name
(
type: esriFieldTypeString, alias: Name, length: 200
)
-
MinPS
(
type: esriFieldTypeDouble, alias: MinPS
)
-
MaxPS
(
type: esriFieldTypeDouble, alias: MaxPS
)
-
LowPS
(
type: esriFieldTypeDouble, alias: LowPS
)
-
HighPS
(
type: esriFieldTypeDouble, alias: HighPS
)
-
Category
(
type: esriFieldTypeInteger, alias: Category
, Coded Values:
[0: Unknown]
, [1: Primary]
, [2: Overview]
, ...6 more...
)
-
Tag
(
type: esriFieldTypeString, alias: Tag, length: 100
)
-
GroupName
(
type: esriFieldTypeString, alias: GroupName, length: 100
)
-
ProductName
(
type: esriFieldTypeString, alias: ProductName, length: 100
)
-
CenterX
(
type: esriFieldTypeDouble, alias: CenterX
)
-
CenterY
(
type: esriFieldTypeDouble, alias: CenterY
)
-
ZOrder
(
type: esriFieldTypeInteger, alias: ZOrder
)
-
Shape_Length
(
type: esriFieldTypeDouble, alias: Shape_Length
)
-
Shape_Area
(
type: esriFieldTypeDouble, alias: Shape_Area
)
Default Mosaic Method: Northwest
Allowed Mosaic Methods: NorthWest,Center,LockRaster,ByAttribute,Nadir,Viewpoint,Seamline,None
SortField:
SortValue: null
Mosaic Operator: First
Default Compression Quality: 75
Default Resampling Method: Bilinear
Max Record Count: 1000
Max Image Height: 4100
Max Image Width: 15000
Max Download Image Count: 20
Max Mosaic Image Count: 20
Allow Raster Function: false
Allow Copy: null
Allow Analysis: null
Allow Compute TiePoints: false
Supports Statistics: true
Supports Advanced Queries: true
Use StandardizedQueries: true
Raster Type Infos:
Name: Raster Dataset
Description: Supports all ArcGIS Raster Datasets
Help:
Has Raster Attribute Table: false
Edit Fields Info: null
Ownership Based AccessControl For Rasters: null
Child Resources:
Info
Key Properties
Legend
Raster Function Infos
Supported Operations:
Export Image
Identify
Compute Histograms
Compute Statistics Histograms
Get Samples
Compute Class Statistics
Query Boundary
Compute Pixel Location
Validate
Project